BEGIN:VCALENDAR
VERSION:2.0
PRODID:-//Les Rendez-Vous de La Baule - ECPv6.13.2//NONSGML v1.0//EN
CALSCALE:GREGORIAN
METHOD:PUBLISH
X-WR-CALNAME:Les Rendez-Vous de La Baule
X-ORIGINAL-URL:https://www.lesrendezvousdelabaule.com
X-WR-CALDESC:Évènements pour Les Rendez-Vous de La Baule
REFRESH-INTERVAL;VALUE=DURATION:PT1H
X-Robots-Tag:noindex
X-PUBLISHED-TTL:PT1H
BEGIN:VTIMEZONE
TZID:Europe/Paris
BEGIN:DAYLIGHT
TZOFFSETFROM:+0100
TZOFFSETTO:+0200
TZNAME:CEST
DTSTART:20240331T010000
END:DAYLIGHT
BEGIN:STANDARD
TZOFFSETFROM:+0200
TZOFFSETTO:+0100
TZNAME:CET
DTSTART:20241027T010000
END:STANDARD
END:VTIMEZONE
BEGIN:VEVENT
DTSTART;TZID=Europe/Paris:20241004T183000
DTEND;TZID=Europe/Paris:20241004T193000
DTSTAMP:20260421T093511
CREATED:20240909T153609Z
LAST-MODIFIED:20241008T124523Z
UID:10000205-1728066600-1728070200@www.lesrendezvousdelabaule.com
SUMMARY:Roselyne Bachelot
DESCRIPTION:Roselyne BachelotSacrés monstres !Edition : PlonRoselyne Bachelot-Narquin a été plusieurs fois ministre sous les présidences de Jacques Chirac\, de Nicolas Sarkozy et d’Emmanuel Macron. Elle est aujourd’hui éditorialiste sur BFM-TV\, RTL et Forum Opéra. Elle a publié\, en 2023\, 682 jours\, qui fut un grand succès de librairie.  \n« Je vous emmène dans la grande galerie des politiques qui ont fait la France d’aujourd’hui. \n« Les fauves d’abord : de Gaulle qui avait perçu la fin d’un monde\, Chirac le séducteur\, Sarkozy le combattant. \n« Les monstres ensuite : Jean-Luc Mélenchon hanté par la colère\, Marine Le Pen minée par une filiation destructrice\, Emmanuel Macron surgi sans racines des décombres d’un vieux monde détesté et regretté. \n« Partout\, l’argent et ses dérives\, les ambitions\, les trahisons… La Ve République se délite\, les partis sont à terre\, notre société est brisée en mille communautés. \n« J’ai suivi cette mutation et connu de près les fauves et les monstres\, tous ceux qui ont épuisé notre énergie à vouloir sans succès se faire aimer. Une autre histoire de France s’impose. Celle que je vais vous raconter. » \nRoselyne »
URL:https://www.lesrendezvousdelabaule.com/evenement/roselyne-bachelot/
LOCATION:Palais des congrès et des festivals Jacques Chirac – Atlantia\, 119 Av de Lattre de Tassigny\, La Baule Escoublac\, 44500
CATEGORIES:Les anciennes rencontres
ATTACH;FMTTYPE=image/jpeg:https://www.lesrendezvousdelabaule.com/wp-content/uploads/2024/09/site_rdv_bachelot_imagemiseenavant_900x6001.jpg
END:VEVENT
BEGIN:VEVENT
DTSTART;TZID=Europe/Paris:20241007T180000
DTEND;TZID=Europe/Paris:20241007T190000
DTSTAMP:20260421T093511
CREATED:20240909T081840Z
LAST-MODIFIED:20241008T124515Z
UID:10000204-1728324000-1728327600@www.lesrendezvousdelabaule.com
SUMMARY:Françoise Chandernagor
DESCRIPTION:Françoise ChandernagorL’or des rivièresEdition : GallimardAncien membre du Conseil d’État\, Françoise Chandernagor est membre de l’Académie Goncourt depuis 1995. Son succès ne s’est jamais démenti depuis la publication de L’Allée du Roi (ed. Julliard) en 1981. Elle a notamment publié La Sans Pareille (trilogie\, ed. de Fallois\, 1988-89-90)\, L’Enfant des Lumières (ed. de Fallois\, 1995)\, La Première épouse (ed. de Fallois\, 1998)\, La Chambre (ed. Gallimard\, 2002)\, La Voyageuse de nuit (ed. Gallimard\, 2007)\, Les Enfants d’Alexandrie (tétralogie\, ed. Albin Michel\, 2011 à 2022)\, Vie de Jude (ed. Albin Michel\, 2015)\, Quand les femmes parlent d’amour (ed. Cherche Midi\, 2017). \nDes rivières sauvages\, des vallées sombres\, des gorges\, des torrents\, des cascades\, et\, au creux des collines\, un lac immense : dans un récit autobiographique\, Françoise Chandernagor nous décrit la Creuse\, pays des sources et des eaux qui inspira Claude Monet. \nPauvre\, secrète et longtemps inaccessible\, cette région du Massif central – dont\, depuis trois siècles\, les fils devaient migrer chaque printemps vers des chantiers parisiens pour survivre –\, cette terre granitique vouée au chêne et au genêt\, fut le paradis de sa propre enfance. Une enfance à demi- paysanne\, placée sous l’égide d’un grand-père lui-même « maçon-migrant ». Dans un hameau de dix-sept feux\, une enfance libre et buissonnière qui est à l’origine de sa vocation d’écrivain. \nÀ travers le sort de ceux qu’elle a connus dans son village\, et les changements économiques ou climatiques violents de ces dernières années\, Françoise Chandernagor montre la transformation de cette « île » hors du temps\, son île battue par les vents où\, longtemps\, on n’arrivait qu’à pied… \n« Découvrir et raconter les grands penseurs\, c’est la meilleure manière de prendre possession de son monde\, de vivre\, d’agir et de reconstruire. » \nPhoto : Francesca Mantovani – Gallimard \n[ameliaevents event=57]
URL:https://www.lesrendezvousdelabaule.com/evenement/francoise-chandernagor/
LOCATION:Palais des congrès et des festivals Jacques Chirac – Atlantia\, 119 Av de Lattre de Tassigny\, La Baule Escoublac\, 44500
CATEGORIES:Les anciennes rencontres
ATTACH;FMTTYPE=image/jpeg:https://www.lesrendezvousdelabaule.com/wp-content/uploads/2023/02/site_rdv_imagemiseenavant_francoise_chandernagor_900x600.jpg
ORGANIZER;CN="Palais des congr%C3%A8s et des festivals Jacques Chirac - Atlantia":MAILTO:contact@lesrendezvousdelabaule.com
END:VEVENT
END:VCALENDAR