BEGIN:VCALENDAR
VERSION:2.0
PRODID:-//Les Rendez-Vous de La Baule - ECPv6.13.2//NONSGML v1.0//EN
CALSCALE:GREGORIAN
METHOD:PUBLISH
X-ORIGINAL-URL:https://www.lesrendezvousdelabaule.com
X-WR-CALDESC:Évènements pour Les Rendez-Vous de La Baule
REFRESH-INTERVAL;VALUE=DURATION:PT1H
X-Robots-Tag:noindex
X-PUBLISHED-TTL:PT1H
BEGIN:VTIMEZONE
TZID:Europe/Paris
BEGIN:DAYLIGHT
TZOFFSETFROM:+0100
TZOFFSETTO:+0200
TZNAME:CEST
DTSTART:20240331T010000
END:DAYLIGHT
BEGIN:STANDARD
TZOFFSETFROM:+0200
TZOFFSETTO:+0100
TZNAME:CET
DTSTART:20241027T010000
END:STANDARD
END:VTIMEZONE
BEGIN:VEVENT
DTSTART;TZID=Europe/Paris:20241112T180000
DTEND;TZID=Europe/Paris:20241112T190000
DTSTAMP:20260421T081008
CREATED:20241009T083501Z
LAST-MODIFIED:20241113T141553Z
UID:10000207-1731434400-1731438000@www.lesrendezvousdelabaule.com
SUMMARY:Boris Vallaud
DESCRIPTION:Boris VallaudEn permanence – Ces vies que je fais miennesEdition : Odile JacobBoris Vallaud\, né le 25 juillet 1975 à Beyrouth (Liban)\, est un haut fonctionnaire et homme politique français. \nAncien élève de l’ENA\, il collabore avec Arnaud Montebourg au conseil général de Saône-et-Loire\, puis au ministère de l’Économie. Il est ensuite secrétaire général adjoint de la présidence de la République\, de 2014 à 2016. \nInvesti par le Parti socialiste\, il est élu député dans la 3e circonscription des Landes lors des élections législatives de 2017. Il est réélu député socialiste aux élections législatives de 2022 au sein de la coalition NUPES\, puis aux législatives de juillet 2024 sous les couleurs du Nouveau Front Populaire. \nIl est depuis 2022 président du groupe socialiste à l’Assemblée nationale. \n Des hommes\, des femmes reçus dans la permanence du député Boris Vallaud\, dans les Landes. \nDes voix\, des visages\, des vies dans l’épais brouillard de l’époque. \nCe livre les raconte. \nUn retour aux choses humaines sans lesquelles la politique manque de vérité et de sincérité. \nLa politique à l’échelle humaine pour ne jamais perdre de vue les raisons de se battre. \n– Ni condamnation ni anathème\, le livre se tient dans l’écoute compréhensive et bienveillante.\n– Un plaidoyer pour une politique fraternelle en des temps auxquels on reproche des réflexes « libéraux » parfois cruels\, les replis identitaires et la peur des différences\, et une poussée des radicalités clivantes.\n– Une réhabilitation de la politique à hauteur de circonscription\, sans les effets de manche ordinaires de la communication.  \n 
URL:https://www.lesrendezvousdelabaule.com/evenement/boris-vallaud/
LOCATION:Palais des congrès et des festivals Jacques Chirac – Atlantia\, 119 Av de Lattre de Tassigny\, La Baule Escoublac\, 44500
CATEGORIES:Les anciennes rencontres
ATTACH;FMTTYPE=image/jpeg:https://www.lesrendezvousdelabaule.com/wp-content/uploads/2024/10/site_rdv_imagemiseenavant_boris_vallaud_900x6001.jpg
END:VEVENT
BEGIN:VEVENT
DTSTART;TZID=Europe/Paris:20241125T183000
DTEND;TZID=Europe/Paris:20241125T193000
DTSTAMP:20260421T081008
CREATED:20241009T083606Z
LAST-MODIFIED:20241126T143942Z
UID:10000208-1732559400-1732563000@www.lesrendezvousdelabaule.com
SUMMARY:Pascal Perrineau
DESCRIPTION:Pascal PerrineauLe Goût de la politique – Un observateur passionné de la Ve RépubliqueEdition : Odile JacobPascal Perrineau est politologue\, professeur émérite des Universités à Sciences Po où il a dirigé le Centre de recherches politiques (Cevipof) de 1992 à 2013. Ses recherches portent sur les clivages politiques et l’analyse de l’extrême droite en France et en Europe. Il a rempli les fonctions de garant du Grand Débat national de 2019.  \nPascal Perrineau a toujours eu le goût de la politique. Voici son récit personnel de la Ve République. Il nous raconte les scènes marquantes du gaullisme\, le vent soixante-huitard dans les lycées\, l’effervescence des campagnes présidentielles sur les bancs de Sciences Po\, les coulisses du PS mitterrandien et ses désillusions sur le socialisme dès 1981.\nPascal Perrineau trouve alors sa vocation : observer\, de très près\, la vie politique française. \nÉlection après élection\, le chercheur regarde attentivement la carte des scrutins\, prête attention aux signaux faibles qui préfigurent l’émergence d’une nouvelle ligne de fracture politique. Le clivage gauche-droite s’estompe\, le paysage partisan se réorganise autour de deux pôles\, l’un ouvert sur le monde\, l’autre figé sur l’idée de nation. Pascal Perrineau livre ses analyses sur les facteurs économiques\, géographiques et culturels à l’origine de cette reconfiguration politique. \nFace à la désaffection croissante des Français pour la vie politique\, l’auteur propose des pistes concrètes pour l’avenir de notre démocratie. \n– Les mémoires intellectuels et politiques d’un observateur reconnu de la vie politique française depuis plus de trente ans.\n– Racontée et vécue de l’intérieur\, une histoire politique de la France des années 1960 à nos jours qui fait revivre un quotidien marqué par le calendrier électoral.\n– Pascal Perrineau livre son analyse sur la crise politique française contemporaine.  \n« Découvrir et raconter les grands penseurs\, c’est la meilleure manière de prendre possession de son monde\, de vivre\, d’agir et de reconstruire. »
URL:https://www.lesrendezvousdelabaule.com/evenement/pascal-perrineau/
LOCATION:Palais des congrès et des festivals Jacques Chirac – Atlantia\, 119 Av de Lattre de Tassigny\, La Baule Escoublac\, 44500
CATEGORIES:Les anciennes rencontres
ATTACH;FMTTYPE=image/jpeg:https://www.lesrendezvousdelabaule.com/wp-content/uploads/2024/10/site_rdv_imagemiseenavant_pascal_perrineau_900x60011.jpg
END:VEVENT
END:VCALENDAR