BEGIN:VCALENDAR
VERSION:2.0
PRODID:-//Les Rendez-Vous de La Baule - ECPv6.13.2//NONSGML v1.0//EN
CALSCALE:GREGORIAN
METHOD:PUBLISH
X-WR-CALNAME:Les Rendez-Vous de La Baule
X-ORIGINAL-URL:https://www.lesrendezvousdelabaule.com
X-WR-CALDESC:Évènements pour Les Rendez-Vous de La Baule
REFRESH-INTERVAL;VALUE=DURATION:PT1H
X-Robots-Tag:noindex
X-PUBLISHED-TTL:PT1H
BEGIN:VTIMEZONE
TZID:Europe/Paris
BEGIN:DAYLIGHT
TZOFFSETFROM:+0100
TZOFFSETTO:+0200
TZNAME:CEST
DTSTART:20250330T010000
END:DAYLIGHT
BEGIN:STANDARD
TZOFFSETFROM:+0200
TZOFFSETTO:+0100
TZNAME:CET
DTSTART:20251026T010000
END:STANDARD
END:VTIMEZONE
BEGIN:VEVENT
DTSTART;TZID=Europe/Paris:20250211T180000
DTEND;TZID=Europe/Paris:20250211T190000
DTSTAMP:20260421T034518
CREATED:20241211T154143Z
LAST-MODIFIED:20250219T105059Z
UID:10000211-1739296800-1739300400@www.lesrendezvousdelabaule.com
SUMMARY:Gérard Davet & Fabrice Lhomme
DESCRIPTION:Gérard Davet & Fabrice LhommeEdition : FlammarionGérard Davet et Fabrice Lhomme sont grands reporters au journal Le Monde. Ils ont publié ensemble douze livres d’enquête\, dont plusieurs best-sellers comme Sarko m’a tuer\, Un président ne devrait pas dire ça… ou Le Traître et le Néant. \nTrois juges. Un assassin : le Covid-19\, et ses 170 000 victimes françaises. Pour combien de complices ? \nPendant cinq ans\, ces magistrats ont rassemblé un million de documents secrets\, convoqué des centaines de personnes\, mis en cause trois ministres. \nUne formidable enquête politico-judiciaire qui aurait dû rester cachée\, à jamais. \nLe pouvoir l’aurait bien voulu. \nPourtant\, nous allons tout vous révéler. \nL’enquête secrète au cœur du pouvoir
URL:https://www.lesrendezvousdelabaule.com/evenement/gerard-davet-fabrice-lhomme/
LOCATION:Palais des congrès et des festivals Jacques Chirac – Atlantia\, 119 Av de Lattre de Tassigny\, La Baule Escoublac\, 44500
CATEGORIES:Les anciennes rencontres
ATTACH;FMTTYPE=image/jpeg:https://www.lesrendezvousdelabaule.com/wp-content/uploads/2024/12/site_rdv_imagemiseenavant_davet_lhomme_900x600-1.jpg
ORGANIZER;CN="Palais des congr%C3%A8s et des festivals Jacques Chirac - Atlantia":MAILTO:contact@lesrendezvousdelabaule.com
END:VEVENT
BEGIN:VEVENT
DTSTART;TZID=Europe/Paris:20250218T180000
DTEND;TZID=Europe/Paris:20250218T190000
DTSTAMP:20260421T034518
CREATED:20241210T143456Z
LAST-MODIFIED:20250219T105108Z
UID:10000210-1739901600-1739905200@www.lesrendezvousdelabaule.com
SUMMARY:Anne Gabard-Allard
DESCRIPTION:Anne Gabard-AllardMon corps raconte mon HISTOIREÉdition : SolarUne approche corps-esprit pour mieux comprendre la maladie\, en particulier féminine. \nDocteure en médecine\, Anne Gabard-Allard a exercé la gynécologie en cabinet de ville pendant quarante ans. Curieuse et en perpétuelle quête de connaissance et de compréhension\, elle entreprend un master d’histoire des sciences\, qu’elle obtient en 2009. Ces études vont lui permettre d’élargir sa vision de la médecine et l’inviter à poursuivre ses recherches. Elle obtient un  doctorat en philosophie de la médecine après la soutenance d’une thèse intitulée Notre santé au risque de notre histoire\,  élaborée de 2012 à 2017\, où elle interroge déjà le lien existant entre l’histoire de la maladie et celle du patient et de sa lignée.  \n« Docteur\, pourquoi moi ? ». Cette question\, Anne Gabard-Allard l’a entendue des centaines de fois\, dans la bouche des femmes qu’elle a suivies dans son cabinet de gynécologie durant ses 40 ans d’exercice. Ce livre\, c’est l’aboutissement de ses années de pratique\, d’étude et de réflexion : Anne Gabard-Allard y livre sa vision du soin et donne des clés pour aider les femmes face à la maladie. \nSon approche: le corps et le psychisme sont liés. Il faut sortir d’une vision de la médecine centrée sur l’organe pour prendre en compte la patiente dans sa globalité. Certaines émotions devenues toxiques peuvent faire sortir la patiente de sa zone d’habitabilité émotionnelle et faire le lit de la maladie. Reconnaître ces émotions délétères\, en chercher la cause dans son histoire\, participe au processus de guérison. \nAu sommaire : \n\n9 problématiques gynécologiques et pathologies abordées\, et en quoi ces maladies font sens au cœur de notre vie : l’infertilité\, l’endométriose\, le cancer\, l’obésité\, les cystites\, la ménopause précoce\, les pathologies qui parlent de violence\, les maladies auto- immunes et la toxémie gravidique.\nÀ travers 20 cas cliniques détaillés et plus de 50 témoignages les plus marquants issus d’entretiens auprès de 500 patientes\, analysés sous le prisme du lien corps-esprit\, sont dégagées des pistes pour revisiter sa santé à la lumière de son vécu : les questions à se poser sur son histoire (naissance\, petite enfance\, vie de femme)\, comment identifier les mots signifiants de ce récit\, être à l’écoute de ses émotions\, identifier sa zone d’habitabilité émotionnelle…
URL:https://www.lesrendezvousdelabaule.com/evenement/anne-gabard/
LOCATION:Palais des congrès et des festivals Jacques Chirac – Atlantia\, 119 Av de Lattre de Tassigny\, La Baule Escoublac\, 44500
CATEGORIES:Les anciennes rencontres
ATTACH;FMTTYPE=image/jpeg:https://www.lesrendezvousdelabaule.com/wp-content/uploads/2024/12/site_rdv_imagemiseenavant_anne_gabard_900x6001-1.jpg
ORGANIZER;CN="Palais des congr%C3%A8s et des festivals Jacques Chirac - Atlantia":MAILTO:contact@lesrendezvousdelabaule.com
END:VEVENT
BEGIN:VEVENT
DTSTART;TZID=Europe/Paris:20250228T180000
DTEND;TZID=Europe/Paris:20250228T190000
DTSTAMP:20260421T034518
CREATED:20250131T100354Z
LAST-MODIFIED:20250327T110545Z
UID:10000215-1740765600-1740769200@www.lesrendezvousdelabaule.com
SUMMARY:Sébastien Lecornu
DESCRIPTION:Sébastien LecornuVers la guerre ?Edition : PlonSébastien Lecornu est président du conseil départemental de l’Eure de 2015 à 2017 et de 2021 à 2022. Il est également maire de Vernon entre 2014 et 2015. En 2018\, il devient ministre chargé des Collectivités territoriales. En 2020\, il est élu sénateur et nommé ministre des Outre-mer. Depuis 2022\, il est ministre des Armées.   \nVers la guerre ? est son premier ouvrage. \nTerrorisme\, prolifération nucléaire\, compétition débridée entre les États\, réémergence d’une logique de blocs\, guerre aux portes de l’Europe\, routes maritimes contestées\, militarisation de l’espace\, depuis quelques années\, les crises régionales et internationales se cumulent à un rythme inquiétant. \nJamais\, depuis la fin de la guerre froide\, notre sécurité collective n’a été à ce point remise en question. Le moment que nous vivons\, loin de constituer une simple parenthèse\, est le signe d’une rupture stratégique profonde. Dans un monde complexe où nos repères géopolitiques ont brutalement évolué\, nos concitoyens pressentent instinctivement le danger. \nSommes-nous préparés à l’affronter ? Quelles sont nos capacités militaires et industrielles ? À quoi sert l’argent public investi dans notre défense nationale ? Notre société est-elle prête à faire les sacrifices nécessaires pour assurer son réarmement ? Que pouvons-nous attendre de nos alliés ? Quels scénarios devons-nous redouter ? D’où viennent précisément les menaces ? \nDes questions vitales auxquelles Sébastien Lecornu\, nommé ministre des Armées en 2022 par Emmanuel Macron\, apporte ici des réponses stratégiques\, matérielles\, morales et politiques\, en se référant au modèle gaullien\, magistralement mis en œuvre et incarné par Pierre Messmer\, pour nous projeter dans l’avenir. \ncopyright photo : Patrice Normand / Leextra via opale.
URL:https://www.lesrendezvousdelabaule.com/evenement/sebastien-lecornu/
LOCATION:Palais des congrès et des festivals Jacques Chirac – Atlantia\, 119 Av de Lattre de Tassigny\, La Baule Escoublac\, 44500
CATEGORIES:Les anciennes rencontres
ATTACH;FMTTYPE=image/jpeg:https://www.lesrendezvousdelabaule.com/wp-content/uploads/2025/01/site_rdv_imagemiseenavant_sebastien_lecornu_900x6002.jpg
END:VEVENT
END:VCALENDAR