BEGIN:VCALENDAR
VERSION:2.0
PRODID:-//Les Rendez-Vous de La Baule - ECPv6.13.2//NONSGML v1.0//EN
CALSCALE:GREGORIAN
METHOD:PUBLISH
X-ORIGINAL-URL:https://www.lesrendezvousdelabaule.com
X-WR-CALDESC:Évènements pour Les Rendez-Vous de La Baule
REFRESH-INTERVAL;VALUE=DURATION:PT1H
X-Robots-Tag:noindex
X-PUBLISHED-TTL:PT1H
BEGIN:VTIMEZONE
TZID:Europe/Paris
BEGIN:DAYLIGHT
TZOFFSETFROM:+0100
TZOFFSETTO:+0200
TZNAME:CEST
DTSTART:20250330T010000
END:DAYLIGHT
BEGIN:STANDARD
TZOFFSETFROM:+0200
TZOFFSETTO:+0100
TZNAME:CET
DTSTART:20251026T010000
END:STANDARD
END:VTIMEZONE
BEGIN:VEVENT
DTSTART;TZID=Europe/Paris:20250423T180000
DTEND;TZID=Europe/Paris:20250423T190000
DTSTAMP:20260421T003902
CREATED:20250318T141037Z
LAST-MODIFIED:20250506T101150Z
UID:10000221-1745431200-1745434800@www.lesrendezvousdelabaule.com
SUMMARY:Yaël Braun Pivet
DESCRIPTION:Yaël Braun-PivetÀ ma placeEdition : Buchet-ChastelYaël Braun-Pivet\, députée réélue plusieurs fois\, est la première femme à occuper la fonction de présidente de l’Assemblée nationale dans l’histoire de la République française.  \nElle est reconnue pour ses nombreux engagements – justice\, égalité des droits –\, ainsi que pour son rôle de médiatrice et d’organisatrice au sein de l’institution parlementaire.  \n « À ma place\, parce qu’elle n’était pas une évidence\, parce que j’ai douté mais parce que désormais je m’y sens bien et légitime. \nÀ ma place\, parce que je vous propose de vous y mettre à travers les pages de ce livre. \nÀ ma place\, parce que je souhaite qu’elle puisse un jour devenir la vôtre\, avec un peu d’envie\, d’engagement et d’audace. \nÀ ma place\, parce que je rêve d’une société où chacun trouve la sienne. » \nYaël Braun-Pivet \nPremière et unique femme présidente de l’Assemblée nationale\, députée réélue plusieurs fois\, cette mère de cinq enfants révèle les coulisses de son incroyable parcours. \n\n \n 
URL:https://www.lesrendezvousdelabaule.com/evenement/6847/
LOCATION:Palais des congrès et des festivals Jacques Chirac – Atlantia\, 119 Av de Lattre de Tassigny\, La Baule Escoublac\, 44500
CATEGORIES:Les anciennes rencontres
ATTACH;FMTTYPE=image/jpeg:https://www.lesrendezvousdelabaule.com/wp-content/uploads/2025/03/site_rdv_imagemiseenavant_yael_braun_pivet_900x60022.jpg
ORGANIZER;CN="Palais des congr%C3%A8s et des festivals Jacques Chirac - Atlantia":MAILTO:contact@lesrendezvousdelabaule.com
END:VEVENT
BEGIN:VEVENT
DTSTART;TZID=Europe/Paris:20250430T180000
DTEND;TZID=Europe/Paris:20250430T190000
DTSTAMP:20260421T003902
CREATED:20250204T104830Z
LAST-MODIFIED:20250506T101143Z
UID:10000216-1746036000-1746039600@www.lesrendezvousdelabaule.com
SUMMARY:Christine Orban
DESCRIPTION:Christine OrbanMademoiselle SpencerEdition : Albin MichelChristine Orban est l’autrice d’une vingtaine de romans\, récits et recueils qui ont connu un vif succès\, parmi lesquels L’Attente\, Le Silence des hommes\, La Mélancolie du dimanche\, N’oublie pas d’être heureuse\, Soumise… \nTout\, dans la vie de Diana Spencer attire le récit : ses paradoxes\, la transformation de mademoiselle Spencer en princesse de Galles\, puis en icône\, ses failles\, un être entre clarté et obscurité\, l’image que l’on veut avoir d’elle et contre laquelle elle luttera en vain. \nSa vie commence avec l’abandon de sa mère\, se poursuit sous le signe d’un conte de fées et s’achève en tragédie. \nEn apparence\, rien de la courte existence de Diana ne nous échappe puisque ses moindres gestes ont été photographiés\, ses moments d’intimité volés\, ses portraits posés. Tout\, ou presque\, a donc été photographié\, jusqu’à sa mort. \nEt pourtant tout échappe : les images ne sont que clichés\, elles masquent l’essentiel. Qui était Diana ? Diana veut rétablir la vérité sur son couple\, sur sa vie elle finira par la rétablir maladroitement devant les caméras de la BBC; comment en est-elle arrivée là ? \n« J’ai eu\, dit Christine Orban\, l’idée de ce livre après avoir vu la pièce d’Arthur Schnitzler\, Mademoiselle Else au théâtre Montparnasse\, la ressemblance entre Diana et Else était évidente pour moi. Cela me semblait éclairant de rapprocher la vie de l’héroïne de Schnitzler\, une héroïne de papier à celle d’une héroïne de la vraie vie. Diana\, était aussi déchirée que Mademoiselle Else. Deux destins. La force du destin m’a toujours impressionnée. Cette force qui s’est abattu sur Marie-Antoinette\, s’est abattu sur Else et Diana. J’ai écrit ce livre sous la forme d’un journal\, j’avais besoin de me rapprocher de Diana pour raconter son histoire de l’intérieur\, la meilleure façon était la première personne\, je me suis nourrie des interviews\, des discours\, récits\, lettres\, témoignages pour dire la multiplicité d’un mythe. Je lui ai prêté ma plume\, je m’oublie\, c’est elle qui écrit. Je raconte sa vie comme une forme de fiction mais l’approche de la vérité en est le principe. Ce n’est pas une biographie\, une sorte de « biofiction»\, un conte de fées qui se transforme en tragédie. »
URL:https://www.lesrendezvousdelabaule.com/evenement/christine-orban-2/
LOCATION:Palais des congrès et des festivals Jacques Chirac – Atlantia\, 119 Av de Lattre de Tassigny\, La Baule Escoublac\, 44500
CATEGORIES:Les anciennes rencontres
ATTACH;FMTTYPE=image/jpeg:https://www.lesrendezvousdelabaule.com/wp-content/uploads/2025/02/site_rdv_alaune_christine_orban_v11400x9001.jpg
ORGANIZER;CN="Palais des congr%C3%A8s et des festivals Jacques Chirac - Atlantia":MAILTO:contact@lesrendezvousdelabaule.com
END:VEVENT
END:VCALENDAR