BEGIN:VCALENDAR
VERSION:2.0
PRODID:-//Les Rendez-Vous de La Baule - ECPv6.13.2//NONSGML v1.0//EN
CALSCALE:GREGORIAN
METHOD:PUBLISH
X-ORIGINAL-URL:https://www.lesrendezvousdelabaule.com
X-WR-CALDESC:Évènements pour Les Rendez-Vous de La Baule
REFRESH-INTERVAL;VALUE=DURATION:PT1H
X-Robots-Tag:noindex
X-PUBLISHED-TTL:PT1H
BEGIN:VTIMEZONE
TZID:Europe/Paris
BEGIN:DAYLIGHT
TZOFFSETFROM:+0100
TZOFFSETTO:+0200
TZNAME:CEST
DTSTART:20250330T010000
END:DAYLIGHT
BEGIN:STANDARD
TZOFFSETFROM:+0200
TZOFFSETTO:+0100
TZNAME:CET
DTSTART:20251026T010000
END:STANDARD
END:VTIMEZONE
BEGIN:VEVENT
DTSTART;TZID=Europe/Paris:20250505T180000
DTEND;TZID=Europe/Paris:20250505T190000
DTSTAMP:20260420T231343
CREATED:20250203T131920Z
LAST-MODIFIED:20250429T080750Z
UID:10000217-1746468000-1746471600@www.lesrendezvousdelabaule.com
SUMMARY:Tahar Ben Jelloun - Rendez-vous de La Baule annulé
DESCRIPTION:Tahar Ben JellounIls se sont tant aimésEdition : GallimardRomancier\, poète et peintre\, membre de l’Académie Goncourt\, lauréat du prix Goncourt en 1987 pour La nuit sacrée\, Tahar Ben Jelloun est l’auteur de nombreux romans parus aux Editions Gallimard.  \nEntre fresque sociale et roman psychologique\, ce deuxième volet des Amants de Casablanca explore la puissance d’un premier amour\, la fragilité du désir\, et les aléas d’un couple à l’épreuve de l’âge\, dans un pays partagé entre modernité et forces de la régression.  \nNabile et Lamia se sont rencontrés à Paris lors de leurs études\, il est devenu médecin\, elle pharmacienne et femme d’affaires. Ensemble\, ils ont fait construire une maison à Casa et ont eu deux beaux enfants\, avant d’en adopter un troisième. Mais après sa liaison avec Daniel\, un collectionneur de femmes à la réputation sulfureuse\, elle a demandé le divorce… \nUne quinzaine d’années plus tard\, alors que Nabile et Lamia ont refait leur vie\, ils se retrouvent. Elle vient de perdre son deuxième mari\, plus âgé qu’elle\, il s’est lassé de sa deuxième femme\, qu’il n’a jamais vraiment aimée. Le temps a passé\, charriant avec lui son cortège de désillusions\, mais leur amour est resté intact. Sous l’impulsion de Lamia\, plus passionnée et libre que jamais\, ils vont se réinventer une vie à deux\, à rebours de la tradition\, et voir leurs enfants\, devenus adultes\, faire des choix différents des leurs. Jusqu’à ce que la maladie menace de faire voler leur bonheur en éclats. \n« Ma jeunesse m’a trompée. Il va falloir que je m’habitue\, pour le temps qu’il me reste\, à ne pas penser à l’avenir\, à ne plus convoquer le passé\, et à vivre le présent… Quelqu’un m’a dit\, et c’était un sage\, que l’amour est le meilleur des remèdes contre la peur et la douleur. Est-ce que tu m’aimes encore ? »  \nLa suite des Amants de Casablanca\, où l’on retrouve Lamia et Nabile\, et leur chassé-croisé amoureux dans le Casablanca contemporain.
URL:https://www.lesrendezvousdelabaule.com/evenement/tahar-ben-jelloun/
LOCATION:Palais des congrès et des festivals Jacques Chirac – Atlantia\, 119 Av de Lattre de Tassigny\, La Baule Escoublac\, 44500
CATEGORIES:Les Rendez-Vous à venir
ATTACH;FMTTYPE=image/jpeg:https://www.lesrendezvousdelabaule.com/wp-content/uploads/2025/02/rdv-taharbenjelloun-annule.jpg
ORGANIZER;CN="Palais des congr%C3%A8s et des festivals Jacques Chirac - Atlantia":MAILTO:contact@lesrendezvousdelabaule.com
END:VEVENT
BEGIN:VEVENT
DTSTART;TZID=Europe/Paris:20250516T180000
DTEND;TZID=Europe/Paris:20250516T190000
DTSTAMP:20260420T231343
CREATED:20250220T090659Z
LAST-MODIFIED:20250526T075530Z
UID:10000219-1747418400-1747422000@www.lesrendezvousdelabaule.com
SUMMARY:Thierry Ardisson
DESCRIPTION:Thierry ArdissonL’homme en noirEdition : PlonJuste après le générique\, en plein « bonsoir »\, l’Homme en Noir\, l’animateur du plus gros talk-show du pays\, entend un coup de feu ! \nQui a tiré ? \nLes flics commencent l’enquête. \nL’émission continue. \nLà\, avec la même lumière\, la même musique\, les mêmes applos que tous les invités habituels du samedi soir\, les personnages de sa vie débarquent alors à tour de rôle sur son plateau par le grand escalier. \nJohnny Hallyday\, Christian Louboutin\, Michel Rocard\, Serge Gainsbourg\, Marie-Antoinette\, Karl Lagerfeld\, Sainte Rita\, Michaël Youn\, Vincent Bolloré\, l’Homme Invisible\, Emmanuel Macron\, Cyril Hanouna\, Alain Delon\, Jean Gabin\, Audrey Crespo-Mara\, Brad Pitt\, Victor\, Renée et Patrick Ardisson\, Alphonse de Bourbon\, Jésus\, Yannick Noah\, Lady Di\, Milla Jovovich\, Louis XVII\, Mikhaïl Gorbatchev\, Christine Angot\, Manon\, Ninon et Gaston Ardisson\, Don Patillo\, Freddie Mercury\, Edouard Balladur\, Mark Chapman… Mais pas Lennon ! \nIls sont tous là\, à commencer par Catherine Barma\, plus Baffie et Corti\, pour un jugement dernier en forme de show télé émouvant et déjanté où Ardisson se raconte comme jamais. \nThierry Ardisson est producteur-animateur de télévision (« Lunettes Noires pour Nuits Blanches » / « Tout le monde en parle » / « 93\, Faubourg Saint Honoré » / « Hôtel du Temps ») et écrivain (« Rive Droite » / « Louis XX » / « Confession d’un Babyboomer »). \nEn librairie le 7 mai 2025.
URL:https://www.lesrendezvousdelabaule.com/evenement/thierry-ardisson/
LOCATION:Palais des congrès et des festivals Jacques Chirac – Atlantia\, 119 Av de Lattre de Tassigny\, La Baule Escoublac\, 44500
CATEGORIES:Les anciennes rencontres
ATTACH;FMTTYPE=image/jpeg:https://www.lesrendezvousdelabaule.com/wp-content/uploads/2025/02/site_rdv_imagemiseenavant_900x600_thierry_ardisson2.jpg
ORGANIZER;CN="Palais des congr%C3%A8s et des festivals Jacques Chirac - Atlantia":MAILTO:contact@lesrendezvousdelabaule.com
END:VEVENT
BEGIN:VEVENT
DTSTART;TZID=Europe/Paris:20250526T143000
DTEND;TZID=Europe/Paris:20250526T153000
DTSTAMP:20260420T231343
CREATED:20250417T154410Z
LAST-MODIFIED:20250526T135113Z
UID:10000223-1748269800-1748273400@www.lesrendezvousdelabaule.com
SUMMARY:Xavier Fontanet
DESCRIPTION:Xavier FontanetDe la stratégie en entrepriseEdition : ManitobaPDG d’entreprise\, Xavier Fontanet a connu des PME et des grands groupes internationaux ; il a été le PDG du groupe Essilor durant dix-neuf ans et en a fait le leader mondial de la fabrication du verre. Il a également siégé durant de nombreuses années dans les conseils d’administration de L’Oréal\, de Schneider Electric\, du FSI et du Crédit Agricole. Il a été membre des commissions Pébereau et Attali.\nEntrepreneur et investisseur\, Pierre a fait quinze ans de private equity dans son propre Family Office. Il a racheté de nombreuses PME françaises en LBO avec des partenaires financiers. Il a également créé ou co-créé des PME et finance des projets entrepreneuriaux. \n La clé pour faire réussir son entreprise dans un monde ultra-concurrentiel porte un nom : la stratégie. Avec l’aide de Pierre Pupier\, Xavier Fontanet a conçu ce livre pour la rendre passionnante et compréhensible par tous. Pierre Pupier\, entrepreneur et investisseur issu du private equity\, spécialiste de la PME\, interviewe Xavier Fontanet\, ancien dirigeant du groupe Essilor dont le chiffre d’affaires est passé de 500 millions à 5 milliards sous sa direction\, avec dans le même temps un centuplement de la valeur boursière. L’ouvrage est totalement inédit : il se lit comme un roman et permet au lecteur de devenir stratège au fur et à mesure qu’il avance dans sa lecture. \nXavier Fontanet a commencé sa carrière en 1973 au BCG. Il a été ensuite directeur général des Chantiers BÉNÉTEAU\, à l’époque encore petite PME\, puis directeur central du groupe EUREST\, une entreprise de restauration collective. Il a enfin présidé le groupe ESSILOR jusqu’en 2013. En suivant la vie professionnelle de Xavier à chacune de ses étapes\, le lecteur découvre la stratégie\, celle qui s’applique sur le terrain en situation réelle et permet de maîtriser des situations variées et complexes. \nLes concepts stratégiques utilisés et décrits dans ce livre sont universels et s’appliquent aussi bien aux PME\, aux ETI qu’aux grands groupes. En répondant aux questions de Pierre\, Xavier explique d’où vient la rentabilité\, où trouver la croissance et\, évidemment\, comment motiver les équipes. Cet ouvrage concret donne les clés de la stratégie aux cadres et dirigeants des entreprises françaises afin qu’ils puissent s’en inspirer dans leur travail quotidien. \n Les Échos \n« Grâce à des anecdotes et un talent de conteur certain\, Xavier Fontanet explique « l’obsession salutaire du cash » ou le « cottage industry » en passant par l’association des salariés à la stratégie ou les astuces pour bien recruter. »
URL:https://www.lesrendezvousdelabaule.com/evenement/xavier-fontanet-2/
LOCATION:Palais des congrès et des festivals Jacques Chirac – Atlantia\, 119 Av de Lattre de Tassigny\, La Baule Escoublac\, 44500
CATEGORIES:Les anciennes rencontres,LES RDV ECO
ATTACH;FMTTYPE=image/jpeg:https://www.lesrendezvousdelabaule.com/wp-content/uploads/2025/04/site_rdv_imagemiseenavant_xavier_fontanet_900x6002-1.jpg
ORGANIZER;CN="Palais des congr%C3%A8s et des festivals Jacques Chirac - Atlantia":MAILTO:contact@lesrendezvousdelabaule.com
END:VEVENT
BEGIN:VEVENT
DTSTART;TZID=Europe/Paris:20250526T180000
DTEND;TZID=Europe/Paris:20250526T190000
DTSTAMP:20260420T231343
CREATED:20250203T133537Z
LAST-MODIFIED:20250603T071658Z
UID:10000218-1748282400-1748286000@www.lesrendezvousdelabaule.com
SUMMARY:François-Henri Désérable
DESCRIPTION:François-Henri DésérableChagrin d’un chant inachevéEdition : GallimardNé en 1987\, François-Henri Désérable est l’auteur notamment de Mon maître et mon vainqueur\, qui a reçu le Grand prix du roman de l’Académie française. Après L’Usure d’un monde\, où il racontait sa traversée de l’Iran\, Chagrin d’un chant inachevé est son deuxième récit de voyage.  \nLe 29 décembre 1951\, Ernesto Guevara\, vingt-trois ans\, et son ami Alberto Granado\, vingt-neuf ans\, partent pour un long voyage à travers l’Amérique latine\, sur une moto baptisée La Poderosa (La Vigoureuse\, mais elle les lâchera dans les Andes). Huit mille kilomètres d’aventures et de découvertes. C’est ce périple que François-Henri Désérable a décidé de suivre\, de Buenos Aires à Caracas. Cinq mois à moto\, en stop\, en bateau\, d’abord avec un ami puis seul. Le voyage légendaire du Che fournit un cadre lumineux à ce texte\, souvent amusant\, brillant et joueur. Plein de fantaisie et d’espièglerie\, non sans considérations parfois nettement plus graves sur la vie et le voyage\, l’auteur y multiplie les trouvailles stylistiques\, les notations décalées\, les observations inattendues qui font de ce récit un régal de lecture. \n« Cet automne-là\, les taux d’intérêt étaient en baisse\, l’immobilier en hausse\, ma famille\, mes amis s’inquiétaient : est-ce qu’il n’était pas temps que j’investisse dans la pierre ? Avec un peu de chance et un banquier indulgent\, je pouvais peut-être m’endetter sur trente ans (mon âge à l’époque). Je n’en avais ni les moyens ni l’envie. Signant un acte de vente\, j’aurais eu la sensation de signer mon propre registre d’écrou – et de voir ma liberté circonscrite à quelques mètres carrés. Et puis un appartement\, ça se meuble ; aux meubles\, il faudrait toujours préférer son sac de voyage.»
URL:https://www.lesrendezvousdelabaule.com/evenement/francois-henri-deserable-2/
LOCATION:Palais des congrès et des festivals Jacques Chirac – Atlantia\, 119 Av de Lattre de Tassigny\, La Baule Escoublac\, 44500
CATEGORIES:Les anciennes rencontres
ATTACH;FMTTYPE=image/jpeg:https://www.lesrendezvousdelabaule.com/wp-content/uploads/2025/02/site_rdv_imagemiseenavant_francois_henri_deserable_900x6001.jpg
ORGANIZER;CN="Palais des congr%C3%A8s et des festivals Jacques Chirac - Atlantia":MAILTO:contact@lesrendezvousdelabaule.com
END:VEVENT
END:VCALENDAR