BEGIN:VCALENDAR
VERSION:2.0
PRODID:-//Les Rendez-Vous de La Baule - ECPv6.13.2//NONSGML v1.0//EN
CALSCALE:GREGORIAN
METHOD:PUBLISH
X-ORIGINAL-URL:https://www.lesrendezvousdelabaule.com
X-WR-CALDESC:Évènements pour Les Rendez-Vous de La Baule
REFRESH-INTERVAL;VALUE=DURATION:PT1H
X-Robots-Tag:noindex
X-PUBLISHED-TTL:PT1H
BEGIN:VTIMEZONE
TZID:Europe/Paris
BEGIN:DAYLIGHT
TZOFFSETFROM:+0100
TZOFFSETTO:+0200
TZNAME:CEST
DTSTART:20250330T010000
END:DAYLIGHT
BEGIN:STANDARD
TZOFFSETFROM:+0200
TZOFFSETTO:+0100
TZNAME:CET
DTSTART:20251026T010000
END:STANDARD
END:VTIMEZONE
BEGIN:VEVENT
DTSTART;TZID=Europe/Paris:20250604T180000
DTEND;TZID=Europe/Paris:20250604T190000
DTSTAMP:20260420T213846
CREATED:20250507T074434Z
LAST-MODIFIED:20250723T104029Z
UID:10000225-1749060000-1749063600@www.lesrendezvousdelabaule.com
SUMMARY:Louis Sarkozy
DESCRIPTION:Louis SarkozyNapoléon Bonaparte\, l’empire des livresEdition : Passés/ComposésNé en 1997\, Louis Sarkozy est un essayiste français. Après un passage au lycée français Charles de Gaulle à Londres\, il part pour les États-Unis. Diplômé de l’école militaire Valley Forge Academy\, près de Philadelphie\, titulaire d’un master de diplomatie et relations internationales de l’American University (Washington DC)\, il est également diplômé en histoire et philosophie de l’Université de New York. Louis Sarkozy est chroniqueur sur LCI dans l’émission Face à face\, où il débat avec Raquel Garrido.  \n Napoléon Bonaparte ne s’est pas contenté de réformer la France et de triompher sur les champs de bataille. Il a aussi passé sa vie à lire. Il s’est d’ailleurs fait représenter devant des bibliothèques. Une tradition qui a perduré jusqu’à la Ve République. \nDe ses années au collège militaire de Brienne à son exil dans l’île de Sainte-Hélène\, Napoléon n’a jamais cessé de lire. Et de lire de tout : de l’histoire\, de la science\, du théâtre\, des classiques de l’Antiquité\, de la poésie\, mais aussi de la littérature contemporaine. Sa curiosité n’avait pas de limite\, et sa passion était telle que\, même en campagne\, une bibliothèque considérable l’accompagnait. \nLouis Sarkozy revient ici sur la vie de Napoléon Bonaparte par le prisme de ses lectures. Il dessine le portrait d’une Europe en pleine ébullition intellectuelle\, où les oeuvres de Rousseau\, Goethe ou encore Mme de Staël annonçaient un XIXe siècle fracassant. Entraînant à leur suite une génération d’hommes d’action qui rêvaient aussi d’être écrivains. Napoléon fut le premier. \nPréface de Andrew Roberts. Traduit de l’anglais par Denis-Armand Canal.
URL:https://www.lesrendezvousdelabaule.com/evenement/louis-sarkozy/
LOCATION:Palais des congrès et des festivals Jacques Chirac – Atlantia\, 119 Av de Lattre de Tassigny\, La Baule Escoublac\, 44500
CATEGORIES:Les anciennes rencontres
ATTACH;FMTTYPE=image/jpeg:https://www.lesrendezvousdelabaule.com/wp-content/uploads/2025/05/site_rdv_imagemiseenavant_photo_louis_sarkozy.jpg
END:VEVENT
END:VCALENDAR