BEGIN:VCALENDAR
VERSION:2.0
PRODID:-//Les Rendez-Vous de La Baule - ECPv6.13.2//NONSGML v1.0//EN
CALSCALE:GREGORIAN
METHOD:PUBLISH
X-WR-CALNAME:Les Rendez-Vous de La Baule
X-ORIGINAL-URL:https://www.lesrendezvousdelabaule.com
X-WR-CALDESC:Évènements pour Les Rendez-Vous de La Baule
REFRESH-INTERVAL;VALUE=DURATION:PT1H
X-Robots-Tag:noindex
X-PUBLISHED-TTL:PT1H
BEGIN:VTIMEZONE
TZID:Europe/Paris
BEGIN:DAYLIGHT
TZOFFSETFROM:+0100
TZOFFSETTO:+0200
TZNAME:CEST
DTSTART:20250330T010000
END:DAYLIGHT
BEGIN:STANDARD
TZOFFSETFROM:+0200
TZOFFSETTO:+0100
TZNAME:CET
DTSTART:20251026T010000
END:STANDARD
END:VTIMEZONE
BEGIN:VEVENT
DTSTART;TZID=Europe/Paris:20250707T180000
DTEND;TZID=Europe/Paris:20250707T190000
DTSTAMP:20260420T200210
CREATED:20250603T083126Z
LAST-MODIFIED:20250723T104049Z
UID:10000226-1751911200-1751914800@www.lesrendezvousdelabaule.com
SUMMARY:Christophe Aulnette
DESCRIPTION:Christophe AulnetteLe jour où j’ai quitté Bill GatesEdition : NoviceChristophe Aulnette est investisseur et conseiller opérationnel auprès de start-up\, de PME et de fonds d’investissement dans le secteur de la tech. Observateur reconnu de cette industrie et des ses impacts économiques et sociétaux\, il intervient régulièrement sur BFM Business.  \nAncien président de Microsoft France\, Christophe Aulnette revient dans son livre sur le choix qu’il a fait de tourner le dos au confort d’une multinationale pour donner un sens nouveau à sa vie professionnelle. \nIl dévoile les coulisses d’une carrière hors normes et partage ses souvenirs au coeur d’une industrie qui redéfinit l’avenir. Sans occulter ses doutes ni ses échecs\, il expose les raisons profondes de sa décision et les leçons qu’il en a tirées. \nCette transition\, dont Christophe Aulnette nous dévoile les épreuves et les opportunités\, concerne aujourd’hui une large population de cadres qui quittent l’univers de l’entreprise et doivent s’inventer un enjeu sociétal majeur. \nDans son livre\, Christophe Aulnette prodigue des conseils concrets\, inspirés de son parcours et de ses rencontres\, pour se réorienter et bâtir son deuxième acte en accord avec ses valeurs. \nATTENTION changement d’horaire 18h00 au lieu de 14h30
URL:https://www.lesrendezvousdelabaule.com/evenement/christophe-aulnette/
LOCATION:Palais des congrès et des festivals Jacques Chirac – Atlantia\, 119 Av de Lattre de Tassigny\, La Baule Escoublac\, 44500
CATEGORIES:Les anciennes rencontres,LES RDV ECO
ATTACH;FMTTYPE=image/jpeg:https://www.lesrendezvousdelabaule.com/wp-content/uploads/2025/06/site_rdv_imagemiseenavant_aulnette_900x600112.jpg
ORGANIZER;CN="Palais des congr%C3%A8s et des festivals Jacques Chirac - Atlantia":MAILTO:contact@lesrendezvousdelabaule.com
END:VEVENT
BEGIN:VEVENT
DTSTART;TZID=Europe/Paris:20250710T180000
DTEND;TZID=Europe/Paris:20250710T190000
DTSTAMP:20260420T200210
CREATED:20250506T102436Z
LAST-MODIFIED:20250723T104011Z
UID:10000224-1752170400-1752174000@www.lesrendezvousdelabaule.com
SUMMARY:Michel Barnier
DESCRIPTION:Michel BarnierCe que j’ai appris de vous\, chroniques pour demainEdition : Calmann-LévyMichel Barnier est né en 1951. Il est très tôt élu de Savoie. Parlementaire national puis européen\, il fait partie de plusieurs gouvernements\, comme ministre de l’Environnement\, puis ministre des Affaires européennes. En 2004\, il devient ministre des Affaires étrangères\, et en 2007 ministre de l’Agriculture et de la Pêche. Commissaire européen à deux reprises\, il fût en particulier en charge à Bruxelles du marché intérieur et des services financiers. De 2016 à 2021\, il fut négociateur en chef de l’Union Européenne pour le Brexit. Il est Premier ministre de septembre à décembre 2024. \n De ses premières expériences comme jeune élu en Savoie à sa nomination comme Premier ministre\, Michel Barnier a toujours pensé la politique comme une morale de l’action. \nD’une plume libre\, et non sans humour\, il revient sur les rencontres et moments qui l’ont marqué. Il en tire à chaque fois un enseignement qui peut servir pour aujourd’hui comme pour demain. Cela va d’une discussion avec un jeune pêcheur dont l’idée sauvera des vies\, aux coulisses de grands événements : sa nomination et son départ de l’hôtel Matignon\, la prise d’otage des journalistes français en Irak en 2004\, alors qu’il est ministre des Affaires étrangères\, l’organisation des Jeux olympiques d’hiver à Albertville en 1992 ou des longs pourparlers du Brexit dont il est le négociateur en chef pour l’Union européenne. À travers ces histoires\, on découvre sous une lumière nouvelle sa personnalité et ses convictions. \nC’est aussi l’occasion de brosser le portrait des grands hommes et femmes d’État qu’il a côtoyés\, Jacques Chaban-Delmas\, Simone Veil\, François Mitterrand\, Georges Pompidou ou Barack Obama. \nUn livre de chroniques dans lequel Michel Barnier partage les leçons retenues au cours de sa vie publique afin que chacun\, notamment les plus jeunes\, puisse s’en saisir\, pour aujourd’hui et pour demain. \nPhoto: Florian David – Matignon
URL:https://www.lesrendezvousdelabaule.com/evenement/michel-barnier/
LOCATION:Palais des congrès et des festivals Jacques Chirac – Atlantia\, 119 Av de Lattre de Tassigny\, La Baule Escoublac\, 44500
CATEGORIES:Les anciennes rencontres
ATTACH;FMTTYPE=image/jpeg:https://www.lesrendezvousdelabaule.com/wp-content/uploads/2025/05/site_rdv_imagemiseenavant_michel-barnier.jpg
END:VEVENT
END:VCALENDAR