BEGIN:VCALENDAR
VERSION:2.0
PRODID:-//Les Rendez-Vous de La Baule - ECPv6.13.2//NONSGML v1.0//EN
CALSCALE:GREGORIAN
METHOD:PUBLISH
X-WR-CALNAME:Les Rendez-Vous de La Baule
X-ORIGINAL-URL:https://www.lesrendezvousdelabaule.com
X-WR-CALDESC:Évènements pour Les Rendez-Vous de La Baule
REFRESH-INTERVAL;VALUE=DURATION:PT1H
X-Robots-Tag:noindex
X-PUBLISHED-TTL:PT1H
BEGIN:VTIMEZONE
TZID:Europe/Paris
BEGIN:DAYLIGHT
TZOFFSETFROM:+0100
TZOFFSETTO:+0200
TZNAME:CEST
DTSTART:20250330T010000
END:DAYLIGHT
BEGIN:STANDARD
TZOFFSETFROM:+0200
TZOFFSETTO:+0100
TZNAME:CET
DTSTART:20251026T010000
END:STANDARD
END:VTIMEZONE
BEGIN:VEVENT
DTSTART;TZID=Europe/Paris:20251001T180000
DTEND;TZID=Europe/Paris:20251001T190000
DTSTAMP:20260420T151426
CREATED:20250811T132627Z
LAST-MODIFIED:20251007T144928Z
UID:10000228-1759341600-1759345200@www.lesrendezvousdelabaule.com
SUMMARY:Patrice Duhamel
DESCRIPTION:Patrice DuhamelLe document qui aurait pu bouleverser la Vème RépubliqueEdition : L’ObservatoireÉditorialiste politique\, ancien directeur général de Radio France et de France Télévisions\, Patrice Duhamel est un témoin privilégiée de la scène politique depuis 1970. Il est l’auteur de plusieurs livres avec Jacques Santamaria\, dont L’Élysée. Histoire\, secrets\, mystères (Plon\, 2012) et\, aux éditions de l’Observatoire\, Les jours d’après (2017)\, La République abîmée (2019)\, De Gaulle\, l’album inattendu  (2020). Son dernier ouvrage\, Le Chat et le Renard. Présidents et Premiers ministres : deux ou trois choses que je sais d’eux…\,  est paru en 2024. \n15 octobre 1942\, Vichy\, Hôtel du Parc. Le maréchal Pétain reçoit un jeune homme de 26 ans\, François Mitterrand. Un photographe immortalise ce moment. Cette image restera secrète pendant cinquante-deux ans. \nComment ce document explosif est-il resté si longtemps dans l’ombre ? Pourquoi ni Charles de Gaulle\, ni Georges Pompidou\, ni Valéry Giscard d’Estaing\, ni Jacques Chirac n’ont-ils voulu utiliser cette arme politique fatale contre François Mitterrand ? \nPatrice Duhamel révèle l’incroyable histoire de cette photo qui aurait pu changer l’histoire de la Vème République. \nÀ travers des témoignages inédits et des archives jusqu’ici secrètes\, l’auteur nous plonge dans les coulisses du pouvoir. Tous ces hommes d’État disposaient de cette photo dévastatrice. Pourquoi ont-ils préféré le silence à la révélation ? Leur choix en dit long sur le poids du secret et le sens des responsabilités de ces grands dirigeants. De Vichy au Palais de l’Élysée\, cette enquête historique nous fait revivre ces moments décisifs où le destin politique de la France aurait pu basculer.
URL:https://www.lesrendezvousdelabaule.com/evenement/patrice-duhamel/
LOCATION:Palais des congrès et des festivals Jacques Chirac – Atlantia\, 119 Av de Lattre de Tassigny\, La Baule Escoublac\, 44500
CATEGORIES:Les anciennes rencontres
ATTACH;FMTTYPE=image/jpeg:https://www.lesrendezvousdelabaule.com/wp-content/uploads/2025/08/site_rdv_imagemiseenavant_patrice_duhamel_900x6001.jpg
ORGANIZER;CN="Palais des congr%C3%A8s et des festivals Jacques Chirac - Atlantia":MAILTO:contact@lesrendezvousdelabaule.com
END:VEVENT
END:VCALENDAR