BEGIN:VCALENDAR
VERSION:2.0
PRODID:-//Les Rendez-Vous de La Baule - ECPv6.13.2//NONSGML v1.0//EN
CALSCALE:GREGORIAN
METHOD:PUBLISH
X-WR-CALNAME:Les Rendez-Vous de La Baule
X-ORIGINAL-URL:https://www.lesrendezvousdelabaule.com
X-WR-CALDESC:Évènements pour Les Rendez-Vous de La Baule
REFRESH-INTERVAL;VALUE=DURATION:PT1H
X-Robots-Tag:noindex
X-PUBLISHED-TTL:PT1H
BEGIN:VTIMEZONE
TZID:Europe/Paris
BEGIN:DAYLIGHT
TZOFFSETFROM:+0100
TZOFFSETTO:+0200
TZNAME:CEST
DTSTART:20250330T010000
END:DAYLIGHT
BEGIN:STANDARD
TZOFFSETFROM:+0200
TZOFFSETTO:+0100
TZNAME:CET
DTSTART:20251026T010000
END:STANDARD
END:VTIMEZONE
BEGIN:VEVENT
DTSTART;TZID=Europe/Paris:20251208T180000
DTEND;TZID=Europe/Paris:20251208T190000
DTSTAMP:20260420T114551
CREATED:20250811T133519Z
LAST-MODIFIED:20260115T095708Z
UID:10000229-1765216800-1765220400@www.lesrendezvousdelabaule.com
SUMMARY:Claude Blanchemaison
DESCRIPTION:Claude BlanchemaisonFragments d’un parcours aventureuxEdition : Temporis éditionsClaude Blanchemaison\, diplomate\, est né à Loches\, a été élevé à Tours\, est diplômé d’HEC et de Sciences Po à Paris. Il a effectué son service militaire dans l’infanterie de marine. Ancien élève de l’ENA\, il a été ambassadeur au Vietnam\, en Inde\, en Russie et au Tadjikistan\, ainsi qu’en Espagne. Spécialiste de l’Europe et de l’Asie\, il a exercé plusieurs fonctions de direction au Quai d’Orsay. Il a enseigné à Paris-Dauphine et à Sciences Po et a été chroniqueur sur des chaînes d’info. Son livre Vivre avec Poutine  a reçu le prix Jacques de Fouchier de l’Académie française en 2020.  \n Ce récit pourrait être le scénario d’une série en vingt-cinq épisodes\, au cours desquels un jeune provincial se retrouve propulsé à Paris\, avant d’être plongé dans la marmite cosmopolite de Bruxelles et de poursuivre ses aventures en Asie ou ailleurs. Chaque fragment constitue une short story\, une nouvelle\, avec son histoire\, ses personnages\,  sa culture et sa saveur\, dont l’auteur représente le seul élément de continuité. \nLe parcours du diplomate a de quoi intriguer. Peut-on successivement négocier l’adhésion de l’Espagne et du Portugal aux Communautés européennes\, aller miner le régiment de l’apartheid en Afrique du Sud\, dialoguer avec le légendaire général Giáp à Hanoi\, obtenir une réconciliation avec la Chine lors de négociations secrètes à Pékin\, tenter de séduire l’Inde dans tous ses « États »\, explorer les limites et les risques de la coopération avec la Russie de Vladimir Poutine\, avant d’organiser la présidence française de 2008 au Conseil d’ Union Européenne ?  Le diplomate doit être capable de relever tous les défis qui lui sont lancés\, sans jamais renoncer à ses convictions\, quelles qu’en soient les conséquences. Il ne s’agit pas de paraître\, mais d’agir\, d’analyser\, d’inventer\, de proposer\, de décider et de mettre en œuvre\, bien souvent à ses risques et périls. \nDe la douceur tourangelle au fracas d’une guerre globalisée.
URL:https://www.lesrendezvousdelabaule.com/evenement/claude-blanchemaison/
LOCATION:Palais des congrès et des festivals Jacques Chirac – Atlantia\, 119 Av de Lattre de Tassigny\, La Baule Escoublac\, 44500
CATEGORIES:Les anciennes rencontres
ATTACH;FMTTYPE=image/jpeg:https://www.lesrendezvousdelabaule.com/wp-content/uploads/2025/08/site_rdv_imagemiseenavant_blanchemaison_900x600.jpg
ORGANIZER;CN="Palais des congr%C3%A8s et des festivals Jacques Chirac - Atlantia":MAILTO:contact@lesrendezvousdelabaule.com
END:VEVENT
END:VCALENDAR