BEGIN:VCALENDAR
VERSION:2.0
PRODID:-//Les Rendez-Vous de La Baule - ECPv6.13.2//NONSGML v1.0//EN
CALSCALE:GREGORIAN
METHOD:PUBLISH
X-WR-CALNAME:Les Rendez-Vous de La Baule
X-ORIGINAL-URL:https://www.lesrendezvousdelabaule.com
X-WR-CALDESC:Évènements pour Les Rendez-Vous de La Baule
REFRESH-INTERVAL;VALUE=DURATION:PT1H
X-Robots-Tag:noindex
X-PUBLISHED-TTL:PT1H
BEGIN:VTIMEZONE
TZID:Europe/Paris
BEGIN:DAYLIGHT
TZOFFSETFROM:+0100
TZOFFSETTO:+0200
TZNAME:CEST
DTSTART:20260329T010000
END:DAYLIGHT
BEGIN:STANDARD
TZOFFSETFROM:+0200
TZOFFSETTO:+0100
TZNAME:CET
DTSTART:20261025T010000
END:STANDARD
END:VTIMEZONE
BEGIN:VEVENT
DTSTART;TZID=Europe/Paris:20260129T180000
DTEND;TZID=Europe/Paris:20260129T190000
DTSTAMP:20260420T100014
CREATED:20251103T142251Z
LAST-MODIFIED:20260205T161142Z
UID:10000231-1769709600-1769713200@www.lesrendezvousdelabaule.com
SUMMARY:Eloïse Maillot-Nespo
DESCRIPTION:Eloïse Maillot-NespoQuand on devient aidant familialEdition : Albin MichelJournaliste\, Éloïse Maillot-Nespo s’est trouvée confrontée à la situation d’aidante aupès de sa mère\, atteinte d’un cancer\, décédée depuis. Elle témoigne de son parcours\, avec l’éclairage de Blandine Chemin-Sauque\, psychologue\, thérapeute et formatrice\, qui a exercé pendant quinze ans en milieu hospitalier où elle s’est consacrée à l’accompagnement de patients atteints de maladies somatiques et de personnes vivant des deuils.  \n Comme 9 millions de Français qui œuvrent auprès d’un proche malade ou handicapé\, Éloïse Maillot-Nespo se retrouve un jour aidante familiale. \nConfrontée à la perte d’autonomie de sa mère\, atteinte d’un cancer\, elle livre avec réalisme et pudeur le témoignage de ce qu’est devenue sa vie quotidienne : une odyssée jalonnée d’épreuves\, de problèmes à résoudre\, de compétences à acquérir\, de liens bousculés et de blessures à soigner. \nL’amour suffit-il à aider ? Comment être à la fois fille et aidante ? Comment se préserver ? C’est ce que vient éclairer\, dans une seconde partie de l’ouvrage\, la psychologue Blandine Chemin-Sauque. Son analyse professionnelle permet une prise de conscience nécessaire et bénéfique de tout ce qui se joue\, souvent de façon inconsciente. \nPhoto: Albin Michel.
URL:https://www.lesrendezvousdelabaule.com/evenement/eloise-maillot-nespo/
LOCATION:Palais des congrès et des festivals Jacques Chirac – Atlantia\, 119 Av de Lattre de Tassigny\, La Baule Escoublac\, 44500
CATEGORIES:Les anciennes rencontres
ATTACH;FMTTYPE=image/jpeg:https://www.lesrendezvousdelabaule.com/wp-content/uploads/2025/11/site_rdv_imagemiseenavant_maillot_nespo_900x6002.jpg
ORGANIZER;CN="Palais des congr%C3%A8s et des festivals Jacques Chirac - Atlantia":MAILTO:contact@lesrendezvousdelabaule.com
END:VEVENT
END:VCALENDAR