BEGIN:VCALENDAR
VERSION:2.0
PRODID:-//Les Rendez-Vous de La Baule - ECPv6.13.2//NONSGML v1.0//EN
CALSCALE:GREGORIAN
METHOD:PUBLISH
X-WR-CALNAME:Les Rendez-Vous de La Baule
X-ORIGINAL-URL:https://www.lesrendezvousdelabaule.com
X-WR-CALDESC:Évènements pour Les Rendez-Vous de La Baule
REFRESH-INTERVAL;VALUE=DURATION:PT1H
X-Robots-Tag:noindex
X-PUBLISHED-TTL:PT1H
BEGIN:VTIMEZONE
TZID:Europe/Paris
BEGIN:DAYLIGHT
TZOFFSETFROM:+0100
TZOFFSETTO:+0200
TZNAME:CEST
DTSTART:20260329T010000
END:DAYLIGHT
BEGIN:STANDARD
TZOFFSETFROM:+0200
TZOFFSETTO:+0100
TZNAME:CET
DTSTART:20261025T010000
END:STANDARD
END:VTIMEZONE
BEGIN:VEVENT
DTSTART;TZID=Europe/Paris:20260202T180000
DTEND;TZID=Europe/Paris:20260202T190000
DTSTAMP:20260420T080850
CREATED:20251013T082035Z
LAST-MODIFIED:20260205T161219Z
UID:10000230-1770055200-1770058800@www.lesrendezvousdelabaule.com
SUMMARY:Marc Trévidic
DESCRIPTION:Marc TrévidicJustice présumée coupableEdition : Albin MichelNé à Bordeaux en 1965\, Marc Trévidic a été juge d’instruction au pôle anti-terroriste du tribunal de Paris. Là\, pendant près de dix ans\, il a été au cœur des affaires les plus sensibles. Il a aussi été président de l’association française des magistrats instructeurs. Il est actuellement président de chambre à la cour d’appel de Versailles.  \nUn voyage à la fois familier et fascinant dans un monde qui nous est souvent incompréhensible : celui de la justice. \nAu fil du récit\, Marc Trévidic rappelle les adages qui font la force du droit et analyse\, en se nourrissant de son expérience\, les dysfonctionnements qui minent au quotidien la machine judiciaire. \nOn y croise des personnages parfois mythiques – de l’Empereur Justinien à Renaud van Ryumbeke – qui ont fait progresser le système en le bousculant. \nMarc Trévidic livre une réflexion profonde sur une institution aujourd’hui au centre des polémiques et sur l’aventure que représente pour tout magistrat la complexité de l’âme humaine. \n« La justice est présumée coupable parce qu’elle ne sera jamais à la hauteur de nos aspirations. À l’impossible\, elle ne saurait pourtant être tenue. » \nPhoto : Patrick Gérard
URL:https://www.lesrendezvousdelabaule.com/evenement/marc-trevidic-2/
LOCATION:Palais des congrès et des festivals Jacques Chirac – Atlantia\, 119 Av de Lattre de Tassigny\, La Baule Escoublac\, 44500
CATEGORIES:Les anciennes rencontres
ATTACH;FMTTYPE=image/jpeg:https://www.lesrendezvousdelabaule.com/wp-content/uploads/2025/10/site_rdv_imagemiseenavant_marc_trevidic_900x60022.jpg
ORGANIZER;CN="Palais des congr%C3%A8s et des festivals Jacques Chirac - Atlantia":MAILTO:contact@lesrendezvousdelabaule.com
END:VEVENT
END:VCALENDAR