BEGIN:VCALENDAR
VERSION:2.0
PRODID:-//Les Rendez-Vous de La Baule - ECPv6.13.2//NONSGML v1.0//EN
CALSCALE:GREGORIAN
METHOD:PUBLISH
X-ORIGINAL-URL:https://www.lesrendezvousdelabaule.com
X-WR-CALDESC:Évènements pour Les Rendez-Vous de La Baule
REFRESH-INTERVAL;VALUE=DURATION:PT1H
X-Robots-Tag:noindex
X-PUBLISHED-TTL:PT1H
BEGIN:VTIMEZONE
TZID:Europe/Paris
BEGIN:DAYLIGHT
TZOFFSETFROM:+0100
TZOFFSETTO:+0200
TZNAME:CEST
DTSTART:20220327T010000
END:DAYLIGHT
BEGIN:STANDARD
TZOFFSETFROM:+0200
TZOFFSETTO:+0100
TZNAME:CET
DTSTART:20221030T010000
END:STANDARD
END:VTIMEZONE
BEGIN:VTIMEZONE
TZID:Europe/Paris
BEGIN:DAYLIGHT
TZOFFSETFROM:+0100
TZOFFSETTO:+0200
TZNAME:CEST
DTSTART:20220327T010000
END:DAYLIGHT
BEGIN:STANDARD
TZOFFSETFROM:+0200
TZOFFSETTO:+0100
TZNAME:CET
DTSTART:20221030T010000
END:STANDARD
END:VTIMEZONE
BEGIN:VTIMEZONE
TZID:UTC
BEGIN:STANDARD
TZOFFSETFROM:+0000
TZOFFSETTO:+0000
TZNAME:UTC
DTSTART:20220101T000000
END:STANDARD
END:VTIMEZONE
BEGIN:VEVENT
DTSTART;TZID=Europe/Paris:20220408T180000
DTEND;TZID=Europe/Paris:20220408T180000
DTSTAMP:20260421T160614
CREATED:20211210T102759Z
LAST-MODIFIED:20220516T145246Z
UID:10000168-1649440800-1649440800@www.lesrendezvousdelabaule.com
SUMMARY:Mireille Dumas
DESCRIPTION:Mireille DumasRENCONTRES INOUBLIABLES Vie Privée\, vie publiqueEdition : Le Cherche-MidiMireille Dumas est journaliste\, réalisatrice de documentaires et productrice. Elle a notamment animé les émissions Bas les masques (1992-1996)\, La Vie à l’endroit (1997-2000)\, Vie privée Vie publique (2000-2011)\, Signé Mireille Dumas (2012-2014). \nLes téléspectateurs fidèles le lui demandaient depuis longtemps : Mireille Dumas raconte dans ce livre ses plus belles rencontres. La journaliste a reçu des centaines d’invités dans son émission « Vie privée\, vie publique » (2000-2011). Avec l’empathie et l’écoute qui font sa singularité et son talent\, Mireille Dumas a su installer une confiance\, une intimité propice aux confidences.\nMireille Darc\, Brigitte Bardot\, Jean-Louis Trintignant… une trentaine de personnalités sont au cœur de ces Rencontres inoubliables. Il y est question d’amour\, de bonheur\, de drames\, de la famille\, de la solitude\, de cinéma\, de télévision\, de littérature… \nEntre vie privée et vie publique\, les plus belles rencontres de Mireille Dumas.
URL:https://www.lesrendezvousdelabaule.com/evenement/mireille-dumas/
LOCATION:Palais des congrès et des festivals Jacques Chirac – Atlantia\, 119 Av de Lattre de Tassigny\, La Baule Escoublac\, 44500
CATEGORIES:Les anciennes rencontres,Les Rendez-Vous à venir
ATTACH;FMTTYPE=image/jpeg:https://www.lesrendezvousdelabaule.com/wp-content/uploads/2021/12/dumas_rdvlabaule_imagealaune.jpg
END:VEVENT
BEGIN:VEVENT
DTSTART;TZID=Europe/Paris:20220328T180000
DTEND;TZID=Europe/Paris:20220328T180000
DTSTAMP:20260421T160614
CREATED:20211215T124027Z
LAST-MODIFIED:20220516T145232Z
UID:10000169-1648490400-1648490400@www.lesrendezvousdelabaule.com
SUMMARY:Guillaume Durand
DESCRIPTION:Guillaume DurandUn philosophe à l’hôpitalEdition : FlammarionGuillaume Durand est maître de conférences en philosophie à Nantes\, et spécialiste en éthique médicale et bioéthique. Il est aussi Directeur de la Consultation d’Ethique Clinique – Centre Hospitalier de Saint-Nazaire/Clinique Mutualiste de l’Estuaire  À l’hôpital se croisent des existences singulières\, des histoires ordinaires et des destins parfois bouleversants. Face aux choix cruciaux que nous impose le réel\, il s’agit toujours de préserver notre liberté. Plus que du soin\, on vient y trouver du sens. Faut-il s’acharner à vouloir vivre ou accepter de partir ? Peut-on supporter de voir les yeux de son fils\, donneur d’organes\, dans le regard d’un autre ? Aujourd’hui plus que jamais\, les questions se complexifient : que répondre à cette jeune femme qui désire se faire ligaturer les trompes pour raisons écologiques ? Faut-il aider les couples abstinents sexuels à devenir parents ? Pour être au cœur de ces dilemmes\, Guillaume Durand a choisi de diriger la consultation d’éthique clinique au Centre hospitalier de Saint-Nazaire. Son expérience unique nous prouve que soigner est l’un des plus forts enjeux de notre humanité. « La philosophie ne doit pas seulement réfléchir sur des questions abstraites ou sur des fondements universels : elle doit se confronter au réel\, à la souffrance\, à la joie et aux plaisirs singuliers. Elle doit prendre part à la vie de notre cité »
URL:https://www.lesrendezvousdelabaule.com/evenement/guillaume-durand/
LOCATION:Palais des congrès et des festivals Jacques Chirac – Atlantia\, 119 Av de Lattre de Tassigny\, La Baule Escoublac\, 44500
CATEGORIES:Les anciennes rencontres,Les Rendez-Vous à venir
ATTACH;FMTTYPE=image/jpeg:https://www.lesrendezvousdelabaule.com/wp-content/uploads/2021/12/Guillaume-Durand-DR-.jpg
END:VEVENT
BEGIN:VEVENT
DTSTART;TZID=Europe/Paris:20220319T180000
DTEND;TZID=Europe/Paris:20220319T180000
DTSTAMP:20260421T160614
CREATED:20220106T111436Z
LAST-MODIFIED:20220328T085435Z
UID:10000170-1647712800-1647712800@www.lesrendezvousdelabaule.com
SUMMARY:Michel Onfray & Éric Naulleau
DESCRIPTION:Michel Onfray – Éric NaulleauLa gauche réfractaire\nEdition : Bouquins Très controversés en raison de leurs prises de position publiques\, Michel Onfray et Éric Naulleau répondent à leurs détracteurs et s’expliquent sur la réalité de leurs convictions.   \nÀ quelques mois d’une élection présidentielle dominée par la montée des populismes\, et dans un contexte de grande confusion politique\, les deux hommes\, fidèles à leurs convictions de toujours\, ont décidé de rendre publics leurs échanges à ce sujet. Tous deux se réclament d’une gauche qu’ils qualifient de « réfractaire ». Réfractaire tout à la fois à ce qu’est devenue la gauche institutionnelle et à ses dérives incarnées entre autres par le « wokisme » et la « cancel culture ». \nTaxés par leurs détracteurs de fascisme ou de complaisance envers les thèses d’extrême-droite\, Onfray et Naulleau rappellent ici leurs fondamentaux et précisent la nature de leurs engagements. D’où ils partent\, selon leur formule\, et où ils en sont arrivés aujourd’hui. \nMichel  Onfray rappelle sa proximité de toujours avec la gauche libertaire et sa filiation politique et philosophique avec les idées de Proudhon\, son lien personnel et originel avec les classes populaires. « Ma gauche est d’abord éthique. Pour ma part je fais passer la morale avant les idées de gauche ou de droite. Je suis de gauche mais quand la gauche est immorale je ne le suis plus » \nIl se distingue en cela d’Éric Naulleau qui se déclare de gauche quoi qu’il en soit\, même si la gauche le décourage et le consterne trop souvent et qu’il lui arrive\, à lui aussi\, de préférer la compagnie des « représentants de l’autre bord ». \nTous deux constatent et déplorent le divorce d’une grande partie de la gauche avec le peuple au profit de l’extrême -droite. Ils lui reprochent son déni de réalité à force de méconnaître ou sous-estimer la situation sociale et économique du pays. \nIls divergent sur l’origine du mal. Mais ils partagent une même allergie aux figures dominantes d’une gauche intellectuelle et mondaine\, en particulier Bernard Henri Lévy dont Michel Onfray pointe les responsabilités dans l’effondrement de la gauche actuelle\, mais aussi Jean -Français Kahn ou Jacques Julliard qui ont en commun de l’avoir attaqué en le comparant aux tenants du fascisme français. La réplique de Michel Onfray est cinglante et sans ambiguïté. \nTous deux échangent aussi\, entre autres sujets\, sur celui de leur relation publique et personnelle avec Éric Zemmour\, et de ce qui les distingue de lui comme de ce qui les rapproche. \nUn salutaire exercice de vérité. \nÀ l’issue de la rencontre\, Michel Onfray et Éric Naulleau\,  signeront leurs livres avec la participation de la Maison de la Presse de La Baule et de la Maison de la Presse du Casino.
URL:https://www.lesrendezvousdelabaule.com/evenement/michel-onfray/
LOCATION:Palais des congrès et des festivals Jacques Chirac – Atlantia\, 119 Av de Lattre de Tassigny\, La Baule Escoublac\, 44500
CATEGORIES:Les anciennes rencontres
ATTACH;FMTTYPE=image/jpeg:https://www.lesrendezvousdelabaule.com/wp-content/uploads/2022/02/photo_onfray_naulleau-2.jpg
END:VEVENT
BEGIN:VEVENT
DTSTART;VALUE=DATE:20220319
DTEND;VALUE=DATE:20220321
DTSTAMP:20260421T160614
CREATED:20220222T135158Z
LAST-MODIFIED:20220328T085537Z
UID:10000173-1647648000-1647820799@www.lesrendezvousdelabaule.com
SUMMARY:Rendez-Vous des Écrivains 2022
DESCRIPTION:Rendez-Vous des Écrivains 2022Créé en 2011\, le Rendez-vous des Écrivains est une manifestation littéraire où on ne parle pas que de littérature. Pendant une journée et une soirée\, vous pouvez participer à des tables rondes\, rencontrer des auteurs\, bavarder avec eux\, leur faire signer des livres\, visiter des expositions. \nCette année\, les 19 et 20 mars aura lieu le 10ème Rendez-Vous des Écrivains au Palais des congrès et des festivals de La Baule\, manifestation littéraire ouverte sur les autres arts.  \nSeront réunis quelques-uns des meilleurs talents d’aujourd’hui : Michel Onfray\, Jean-Luc Coatalem\, Marie Robert\, Bertrand Burgalat\, Éric Naulleau\, Jean-Marie Périer\, Karine Reysset\, Xavier de Moulins\, Vanessa Seward\, Jean-Luc Barré\, Louis-Henri de La Rochefoucauld\, Jean Rouaud et Stéphane Simon. \nEntrée libre et gratuite.\nSamedi 19 mars – à 18h\nDimanche 20 mars – de 11h à 18h \n>> Consulter le programme
URL:https://www.lesrendezvousdelabaule.com/evenement/rendez-vous-des-ecrivains-2022/
LOCATION:Palais des congrès et des festivals Jacques Chirac – Atlantia\, 119 Av de Lattre de Tassigny\, La Baule Escoublac\, 44500
CATEGORIES:Les anciennes rencontres,Les rendez vous des écrivains
ATTACH;FMTTYPE=image/jpeg:https://www.lesrendezvousdelabaule.com/wp-content/uploads/2022/02/vignette_event_rdvecrivains_2022-scaled.jpg
END:VEVENT
BEGIN:VEVENT
DTSTART;TZID=Europe/Paris:20220218T180000
DTEND;TZID=Europe/Paris:20220218T180000
DTSTAMP:20260421T160615
CREATED:20211117T154942Z
LAST-MODIFIED:20220224T164942Z
UID:10000167-1645207200-1645207200@www.lesrendezvousdelabaule.com
SUMMARY:Francis Huster
DESCRIPTION:FRANCIS HUSTERDictionnaire amoureux de MolièreEdition : PlonFrancis Huster\, auteur\, réalisateur\, adaptateur\, professeur et metteur en scène\, est\, comme chacun sait\, un acteur phare du théâtre\, du cinéma et de la télévision. Il a joué Molière dans le monde entier et s’est battu pour l’entrée de celui-ci au Panthéon le 15 janvier 2022\, 400e anniversaire de sa naissance.Par quelle magie\, quand l’humour de tous les autres grands auteurs ne cesse de s’affadir avec le temps\, sa force comique conserve-t-elle\, aujourd’hui encore\, toute sa puissance ? Pourquoi ses héros\, réduits à quelques traits ou traversés d’aspirations contradictoires\, animés par des lubies\, aveugles à eux-mêmes\, parviennent-ils à nous révéler des dimensions insoupçonnées de la condition humaine ? Comment le pur plaisir du jeu théâtral et de ses variations\, premier moteur de ses pièces\, devient-il\, sous sa plume\, un instrument de précision capable de dévoiler les motivations les plus secrètes des personnages ? C’est que Molière est le seul auteur (hormis peut-être\, à ce niveau\, Charlie Chaplin) dont le génie découle entièrement de celui qu’il avait comme acteur. Au demeurant\, si l’on veut en révéler toute la profondeur\, il faut aborder ses comédies comme des partitions musicales : pour nous faire ressentir les vrais enjeux de la pièce\, les acteurs doivent y déchiffrer les émotions\, sans cesse changeantes et surprenantes\, qu’ils auront à vivre sur la scène. Chez Molière\, en effet\, ce sont les émotions qui révèlent et jugent ce que les actes\, les pensées et les paroles des personnages travestissent. Sous cet angle\, l’originalité de Molière apparaît avec une évidence et une simplicité nouvelles : les milliers d’ouvrages brillants qui lui ont été consacrés ont eu tendance à estomper les intentions du dramaturge\, à force d’interprétations conceptuelles\, morales\, esthétiques ou historiques. Ce retour amoureux au Molière des origines\, qui est le Molière de toujours et de demain\, est celui que nous propose ici le 463e Sociétaire de la Comédie française\, Francis Huster Quatre cents ans après sa naissance\, Molière continue de nous toucher\, de nous fait rire\, de nous surprendre\, de nous éclairer\, comme si ses pièces avaient été écrites hier. Qu’il nous soit tellement proche ajoute à son mystère. Photos: Patrick Gérard
URL:https://www.lesrendezvousdelabaule.com/evenement/francis-huster-2/
LOCATION:Palais des congrès et des festivals Jacques Chirac – Atlantia\, 119 Av de Lattre de Tassigny\, La Baule Escoublac\, 44500
CATEGORIES:Les anciennes rencontres,Les Rendez-Vous à venir
ATTACH;FMTTYPE=image/jpeg:https://www.lesrendezvousdelabaule.com/wp-content/uploads/2017/11/Francis-Huster_DSC7141.jpeg
END:VEVENT
BEGIN:VEVENT
DTSTART;TZID=Europe/Paris:20220120T180000
DTEND;TZID=Europe/Paris:20220120T180000
DTSTAMP:20260421T160615
CREATED:20211103T124719Z
LAST-MODIFIED:20220224T085141Z
UID:10000165-1642701600-1642701600@www.lesrendezvousdelabaule.com
SUMMARY:Catherine Nay
DESCRIPTION:Catherine NayTu le sais bien\, le temps passe (Souvenirs\, souvenirs 2)Edition : BouquinsAprès l’immense succès remporté par le premier volume\, la suite très attendue des Mémoires de Catherine Nay. \nCe deuxième tome couvre les années 1995-2017\, de l’élection de Jacques Chirac à celle d’Emmanuel Macron. Près de trente ans de vie politique et journalistique mais aussi personnelle\, relatés\, disséqués avec le même sens du trait\, de la formule incisive\, le même art de faire tomber les masques\, d’approcher au plus près la vérité souvent dissimulée et mal connue des personnages de pouvoir\, la même intensité romanesque qui font de Catherine Nay une observatrice et une narratrice hors pair\, souvent impitoyable et toujours savoureuse.\nCatherine Nay\, qui a connu une enfance heureuse et vécu une relation amoureuse de plus d’un demi-siècle avec son compagnon Albin Chalandon\, révèle ici les épreuves auxquelles elle a été confrontée dans sa vie affective et familiale : la perte de l’homme de sa vie en juillet 2020\, et avant cela la mort de ses parents et de l’un de ses frères. Épisodes intimes racontés sans détour\, avec pudeur et vérité\, qui s’inscrivent dans le récit d’une existence où elle a toujours préféré parler des autres que d’elle-même. Souvenirs\, portraits\, anecdotes abondent dans cette chronique où elle dévoile les secrets de la conquête du pouvoir par Jacques Chirac\, ses rencontres avec Bernadette et les confidences volontiers acerbes que celle-ci lui a livrées\, la dépression latente du nouveau président arrivé « fatigué » à l’Élysée et subissant la pression de ses divers entourages jusqu’à l’erreur fatale de la dissolution. Elle décrypte les personnalités conflictuelles d’Alain Juppé et de Philippe Séguin en nous éclairant sur leur part de mystère. Elle s’intéresse également aux protagonistes de l’autre bord\, à commencer par François Mitterrand : son double jeu politique et sentimental est examiné à la lumière de ses relations avec les femmes de sa vie. Elle consacre à Lionel Jospin des pages inattendues\, intriguée par le caractère complexe et opaque de l’ancien Premier ministre.\nC’est une autre histoire de la Ve République que Catherine Nay voit s’instaurer et qu’elle nous raconte avec un mélange d’amusement et de perplexité. Aux grandes figures de la vie politique\, installées durablement dans le paysage national\, ont succédé des acteurs plus éphémères aux carrières plus incertaines. Catherine Nay\, qui ne cache pas sa sympathie pour Nicolas Sarkozy\, décrit en outre l’homme qu’elle connaît bien à travers ce qui fait sa force et sa faiblesse\, dans sa vie publique ou privée\, et revient en particulier sur ses démêlés avec l’autorité judiciaire. Ce livre témoigne aussi de la nostalgie de son auteur envers une certaine époque du journalisme\, que la mort de Jean-Luc Lagardère et celle de son ami Paul Guilbert sont venues clore pour laisser place à une période médiatique elle aussi plus incertaine. \nPhoto: Guillaume Gaffiot Bestimage
URL:https://www.lesrendezvousdelabaule.com/evenement/catherine-nay-2/
LOCATION:Palais des congrès et des festivals Jacques Chirac – Atlantia\, 119 Av de Lattre de Tassigny\, La Baule Escoublac\, 44500
CATEGORIES:Les anciennes rencontres
ATTACH;FMTTYPE=image/jpeg:https://www.lesrendezvousdelabaule.com/wp-content/uploads/2021/11/Caterine-Nay-©-Guillaume-Gaffiot_Bestimage-3-scaled.jpg
END:VEVENT
END:VCALENDAR