BEGIN:VCALENDAR
VERSION:2.0
PRODID:-//Les Rendez-Vous de La Baule - ECPv6.13.2//NONSGML v1.0//EN
CALSCALE:GREGORIAN
METHOD:PUBLISH
X-WR-CALNAME:Les Rendez-Vous de La Baule
X-ORIGINAL-URL:https://www.lesrendezvousdelabaule.com
X-WR-CALDESC:Évènements pour Les Rendez-Vous de La Baule
REFRESH-INTERVAL;VALUE=DURATION:PT1H
X-Robots-Tag:noindex
X-PUBLISHED-TTL:PT1H
BEGIN:VTIMEZONE
TZID:Europe/Paris
BEGIN:DAYLIGHT
TZOFFSETFROM:+0100
TZOFFSETTO:+0200
TZNAME:CEST
DTSTART:20260329T010000
END:DAYLIGHT
BEGIN:STANDARD
TZOFFSETFROM:+0200
TZOFFSETTO:+0100
TZNAME:CET
DTSTART:20261025T010000
END:STANDARD
END:VTIMEZONE
BEGIN:VEVENT
DTSTART;TZID=Europe/Paris:20260306T180000
DTEND;TZID=Europe/Paris:20260306T190000
DTSTAMP:20260419T180048
CREATED:20260115T095406Z
LAST-MODIFIED:20260331T074231Z
UID:10000232-1772820000-1772823600@www.lesrendezvousdelabaule.com
SUMMARY:Pierre de Villiers
DESCRIPTION:Pierre de VilliersPour le succès des armes de la FranceEdition : FayardAncien élève de l’École spéciale militaire de Saint-Cyr\, le général Pierre de Villiers a notamment exercé le commandement de forces en France et à l’étranger. Il a aussi servi à l’État-major de l’armée de Terre\, ainsi qu’à la direction des affaires financières du ministère de la Défense. Nommé chef du cabinet militaire du Premier ministre en 2008. Pierre de Villiers a été conseiller du chef du gouvernement en matière de Défense jusqu’en 2010. De 2014 à 2017\, il a été Chef d’état-major des Armées. Pierre de Villiers a déjà signé quatre ouvrages\, tous chez Fayard : Servir (2017)\, Qu’est-ce qu’un chef ? (2018)\, L’équilibre est un courage (2020) et  Paroles d’honneur (2022).  \n Nous avons déjà reçu le général de Villiers en février 2023 pour son livre Paroles d’honneur (Fayard).  \nL’an dernier\, fin février\, nous recevions Sébastien Lecornu\, alors ministre des Armées\, pour son livre Vers la guerre ? (Plon) \nAvec Pour le succès des armes de la France\, nous poursuivons cette réflexion sur la situation géostratégique mondiale\, européenne et française. \n«Pour le succès des armes de la France » est la formule militaire prononcée lors de chaque passation de commandement. Le général de Villiers a souhaité reprendre la plume pour éclairer les Français sur la situation internationale et le contexte national. \n« Je n’ai cessé d’alerter sur l’accélération de l’évolution du monde et je suis resté au contact des réalités\, écrit-il. Je me sens parfaitement légitime pour écrire en vérité ce que je pressens et ressens. Aujourd’hui\, j’espère qu’il ne sera pas trop tard. »
URL:https://www.lesrendezvousdelabaule.com/evenement/pierre-de-villiers/
LOCATION:Palais des congrès et des festivals Jacques Chirac – Atlantia\, 119 Av de Lattre de Tassigny\, La Baule Escoublac\, 44500
CATEGORIES:Les anciennes rencontres
ATTACH;FMTTYPE=image/jpeg:https://www.lesrendezvousdelabaule.com/wp-content/uploads/2026/01/site_rdv_imagemiseenavant_900x600_pierre_de_villiers.jpg
ORGANIZER;CN="Palais des Congr%C3%A8s Atlantia":MAILTO:contact@lesrendezvousdelabaule.com
END:VEVENT
END:VCALENDAR